BEGIN:VCALENDAR
VERSION:2.0
PRODID:-//Long Island Sound Partnership - ECPv6.15.18//NONSGML v1.0//EN
CALSCALE:GREGORIAN
METHOD:PUBLISH
X-WR-CALNAME:Long Island Sound Partnership
X-ORIGINAL-URL:https://lispartnership.org
X-WR-CALDESC:Events for Long Island Sound Partnership
REFRESH-INTERVAL;VALUE=DURATION:PT1H
X-Robots-Tag:noindex
X-PUBLISHED-TTL:PT1H
BEGIN:VTIMEZONE
TZID:America/New_York
BEGIN:DAYLIGHT
TZOFFSETFROM:-0500
TZOFFSETTO:-0400
TZNAME:EDT
DTSTART:20220313T070000
END:DAYLIGHT
BEGIN:STANDARD
TZOFFSETFROM:-0400
TZOFFSETTO:-0500
TZNAME:EST
DTSTART:20221106T060000
END:STANDARD
BEGIN:DAYLIGHT
TZOFFSETFROM:-0500
TZOFFSETTO:-0400
TZNAME:EDT
DTSTART:20230312T070000
END:DAYLIGHT
BEGIN:STANDARD
TZOFFSETFROM:-0400
TZOFFSETTO:-0500
TZNAME:EST
DTSTART:20231105T060000
END:STANDARD
BEGIN:DAYLIGHT
TZOFFSETFROM:-0500
TZOFFSETTO:-0400
TZNAME:EDT
DTSTART:20240310T070000
END:DAYLIGHT
BEGIN:STANDARD
TZOFFSETFROM:-0400
TZOFFSETTO:-0500
TZNAME:EST
DTSTART:20241103T060000
END:STANDARD
END:VTIMEZONE
BEGIN:VEVENT
DTSTART;TZID=America/New_York:20231109T113000
DTEND;TZID=America/New_York:20231109T143000
DTSTAMP:20260420T195040
CREATED:20231024T170408Z
LAST-MODIFIED:20231024T170408Z
UID:33109-1699529400-1699540200@lispartnership.org
SUMMARY:Navigating Resilience: Long Island Sound Field Excursions - Fenwick Living Shoreline
DESCRIPTION:Join the Long Island Sound Sustainable and Resilient Communities team at the Fenwick Living Shoreline on November 9. The event is hosted in partnership with the Connecticut River Conservancy. Register by November 1. Please contact Sarah Schechter at sarah.schechter@uconn.edu for more information.
URL:https://lispartnership.org/event/navigating-resilience-long-island-sound-field-excursions-fenwick-living-shoreline/
LOCATION:Fenwick\, CT\, Fenwick\, CT\, United States
CATEGORIES:Volunteer Opportunities,Workshops, Seminars, and Conferences
ORGANIZER;CN="SRC Extension Professionals":MAILTO:lisresilience@gmail.com
END:VEVENT
END:VCALENDAR