BEGIN:VCALENDAR
VERSION:2.0
PRODID:-//Long Island Sound Partnership - ECPv6.15.18//NONSGML v1.0//EN
CALSCALE:GREGORIAN
METHOD:PUBLISH
X-ORIGINAL-URL:https://lispartnership.org
X-WR-CALDESC:Events for Long Island Sound Partnership
REFRESH-INTERVAL;VALUE=DURATION:PT1H
X-Robots-Tag:noindex
X-PUBLISHED-TTL:PT1H
BEGIN:VTIMEZONE
TZID:America/New_York
BEGIN:DAYLIGHT
TZOFFSETFROM:-0500
TZOFFSETTO:-0400
TZNAME:EDT
DTSTART:20220313T070000
END:DAYLIGHT
BEGIN:STANDARD
TZOFFSETFROM:-0400
TZOFFSETTO:-0500
TZNAME:EST
DTSTART:20221106T060000
END:STANDARD
BEGIN:DAYLIGHT
TZOFFSETFROM:-0500
TZOFFSETTO:-0400
TZNAME:EDT
DTSTART:20230312T070000
END:DAYLIGHT
BEGIN:STANDARD
TZOFFSETFROM:-0400
TZOFFSETTO:-0500
TZNAME:EST
DTSTART:20231105T060000
END:STANDARD
BEGIN:DAYLIGHT
TZOFFSETFROM:-0500
TZOFFSETTO:-0400
TZNAME:EDT
DTSTART:20240310T070000
END:DAYLIGHT
BEGIN:STANDARD
TZOFFSETFROM:-0400
TZOFFSETTO:-0500
TZNAME:EST
DTSTART:20241103T060000
END:STANDARD
END:VTIMEZONE
BEGIN:VEVENT
DTSTART;TZID=America/New_York:20231115T100000
DTEND;TZID=America/New_York:20231115T140000
DTSTAMP:20260422T144022
CREATED:20231006T144633Z
LAST-MODIFIED:20231006T150807Z
UID:33059-1700042400-1700056800@lispartnership.org
SUMMARY:Navigating Resilience: Long Island Sound Field Excursions - Manorhaven\, NY
DESCRIPTION:Join the Long Island Sound Sustainable and Resilient Communities team to learn about Climate Smart Communities actions the Town of North Hempstead is implementing\, their oyster restoration work\, and view the Seabin installed in Manhasset Bay. The event is hosted in partnership with the Town of North Hempstead.
URL:https://lispartnership.org/event/navigating-resilience-long-island-sound-field-excursions-manorhaven-ny/
LOCATION:Manorhaven Beach Park\, Manorhaven\, NY\, Manorhaven Beach Park\, Manorhaven\, NY\, 11050\, United States
CATEGORIES:Workshops, Seminars, and Conferences
ORGANIZER;CN="Sarah Schaefer-Brown":MAILTO:sarahschaefer-brown@cornell.edu
END:VEVENT
END:VCALENDAR