BEGIN:VCALENDAR
VERSION:2.0
PRODID:-//Long Island Sound Partnership - ECPv6.15.18//NONSGML v1.0//EN
CALSCALE:GREGORIAN
METHOD:PUBLISH
X-WR-CALNAME:Long Island Sound Partnership
X-ORIGINAL-URL:https://lispartnership.org
X-WR-CALDESC:Events for Long Island Sound Partnership
REFRESH-INTERVAL;VALUE=DURATION:PT1H
X-Robots-Tag:noindex
X-PUBLISHED-TTL:PT1H
BEGIN:VTIMEZONE
TZID:America/New_York
BEGIN:DAYLIGHT
TZOFFSETFROM:-0500
TZOFFSETTO:-0400
TZNAME:EDT
DTSTART:20240310T070000
END:DAYLIGHT
BEGIN:STANDARD
TZOFFSETFROM:-0400
TZOFFSETTO:-0500
TZNAME:EST
DTSTART:20241103T060000
END:STANDARD
BEGIN:DAYLIGHT
TZOFFSETFROM:-0500
TZOFFSETTO:-0400
TZNAME:EDT
DTSTART:20250309T070000
END:DAYLIGHT
BEGIN:STANDARD
TZOFFSETFROM:-0400
TZOFFSETTO:-0500
TZNAME:EST
DTSTART:20251102T060000
END:STANDARD
BEGIN:DAYLIGHT
TZOFFSETFROM:-0500
TZOFFSETTO:-0400
TZNAME:EDT
DTSTART:20260308T070000
END:DAYLIGHT
BEGIN:STANDARD
TZOFFSETFROM:-0400
TZOFFSETTO:-0500
TZNAME:EST
DTSTART:20261101T060000
END:STANDARD
END:VTIMEZONE
BEGIN:VEVENT
DTSTART;TZID=America/New_York:20250427T120000
DTEND;TZID=America/New_York:20250427T140000
DTSTAMP:20260420T120500
CREATED:20250403T144854Z
LAST-MODIFIED:20250408T170956Z
UID:35111-1745755200-1745762400@lispartnership.org
SUMMARY:Save the Sound Beach Cleanup - Hamden\, CT
DESCRIPTION:Join Save the Sound for any of our Earth Month cleanups in Connecticut and New York! Beach and park cleanups are a fun way to engage in your community and leave our watershed better than you found it. \nHelp remove trash from our coastline and parks while contributing valuable data to support pollution reduction laws. We’ll be using the Clean Swell app—download it for iOS or Android.
URL:https://lispartnership.org/event/save-the-sound-beach-cleanup-hamden-ct/
LOCATION:Six Lakes\, 2750 Dixwell Ave.\, Hamden\, CT\, 06518
CATEGORIES:Earth Day Events,Volunteer Opportunities
ATTACH;FMTTYPE=image/png:https://lispartnership.org/wp-content/uploads/2025/04/EARTH-MONTH-CLEANUP-Event-Graphic.png
END:VEVENT
BEGIN:VEVENT
DTSTART;TZID=America/New_York:20250426T100000
DTEND;TZID=America/New_York:20250426T120000
DTSTAMP:20260420T120500
CREATED:20250403T144308Z
LAST-MODIFIED:20250403T144308Z
UID:35109-1745661600-1745668800@lispartnership.org
SUMMARY:Save the Sound Beach Cleanup - Rye\, NY
DESCRIPTION:Join Save the Sound for any of our Earth Month cleanups in Connecticut and New York! Beach and park cleanups are a fun way to engage in your community and leave our watershed better than you found it. \nHelp remove trash from our coastline and parks while contributing valuable data to support pollution reduction laws. We’ll be using the Clean Swell app—download it for iOS or Android.
URL:https://lispartnership.org/event/save-the-sound-beach-cleanup-rye-ny/
LOCATION:Rye Town Beach\, 95 Dearborn Avenue\, Rye\, NY\, 10580
CATEGORIES:Earth Day Events
ATTACH;FMTTYPE=image/png:https://lispartnership.org/wp-content/uploads/2025/04/EARTH-MONTH-CLEANUP-Event-Graphic.png
END:VEVENT
BEGIN:VEVENT
DTSTART;TZID=America/New_York:20250426T093000
DTEND;TZID=America/New_York:20250426T113000
DTSTAMP:20260420T120500
CREATED:20250403T142543Z
LAST-MODIFIED:20250403T150103Z
UID:35105-1745659800-1745667000@lispartnership.org
SUMMARY:Save the Sound Beach Cleanup - Norwalk\, CT
DESCRIPTION:Join Save the Sound for any of our Earth Month cleanups in Connecticut and New York! Beach and park cleanups are a fun way to engage in your community and leave our watershed better than you found it. \n  \nHelp remove trash from our coastline and parks while contributing valuable data to support pollution reduction laws. We’ll be using the Clean Swell app—download it for iOS or Android. \n  \n  \n \n 
URL:https://lispartnership.org/event/save-the-sound-beach-cleanup/
LOCATION:Veteran’s Memorial Park\, 42 Seaview Ave\, Norwalk\, Connecticut\, 06855
CATEGORIES:Earth Day Events
ATTACH;FMTTYPE=image/png:https://lispartnership.org/wp-content/uploads/2025/04/EARTH-MONTH-CLEANUP-Event-Graphic.png
END:VEVENT
BEGIN:VEVENT
DTSTART;TZID=America/New_York:20250423T090000
DTEND;TZID=America/New_York:20250423T160000
DTSTAMP:20260420T120500
CREATED:20250402T181027Z
LAST-MODIFIED:20250408T175409Z
UID:35084-1745398800-1745424000@lispartnership.org
SUMMARY:Eelgrass Seed Gluing Volunteer Event - CT
DESCRIPTION:Eelgrass is vital for marine life\, water quality\, and climate resilience. Using the SEAS method (Seeds of Eelgrass Attached to Shellfish)\, we will carefully glue hundreds of eelgrass seeds to live clam shells on Wednesday\, April 23. Sign up as a volunteer and be part of this important restoration effort!
URL:https://lispartnership.org/event/eelgrass-seed-gluing-volunteer-event/
LOCATION:Cedar Island Marina\, 34 Riverside Drive\, Clinton\, Connecticut
CATEGORIES:Earth Day Events,Volunteer Opportunities
ATTACH;FMTTYPE=image/png:https://lispartnership.org/wp-content/uploads/2025/04/EVENT-Eelgrass-1024x512-1.png
END:VEVENT
BEGIN:VEVENT
DTSTART;TZID=America/New_York:20250422T183000
DTEND;TZID=America/New_York:20250422T200000
DTSTAMP:20260420T120500
CREATED:20250403T125325Z
LAST-MODIFIED:20250403T125325Z
UID:35097-1745346600-1745352000@lispartnership.org
SUMMARY:Envision Plum Island Preserved - NY
DESCRIPTION:Plum Island\, a federally owned part of the Town of Southold\, is of national significance for its natural areas\, wildlife and plant life\, and our history and cultural heritage. As the world-renowned Plum Island Animal Disease Center prepares to move its mission to a new laboratory in Kansas\, the Preserve Plum Island Coalition (PPIC) continues to advocate for comprehensive conservation and management solutions that safeguard this national treasure in the public trust. Louise Harrison\, Long Island Project Manager and Senior Science Advisor at Save the Sound\, coordinates the PPIC’s activities. She will present a photographic tour of Plum island\, why it should be preserved in perpetuity\, and the latest status of the preservation campaign. \nRegister: https://www.friendsforbrecknockhall.org/events/tuesdays-at-the-manor-april \n 
URL:https://lispartnership.org/event/envision-plum-island-preserved-ny/
LOCATION:Brednock Hall\, 1500 Brednock Road\, Greenport\, New York\, 11944
CATEGORIES:Earth Day Events
ATTACH;FMTTYPE=image/jpeg:https://lispartnership.org/wp-content/uploads/2012/08/PIscenicP8261578lowres2.jpg
END:VEVENT
BEGIN:VEVENT
DTSTART;TZID=America/New_York:20250420T130000
DTEND;TZID=America/New_York:20250420T140000
DTSTAMP:20260420T120500
CREATED:20250402T175637Z
LAST-MODIFIED:20250403T131259Z
UID:35079-1745154000-1745157600@lispartnership.org
SUMMARY:Celebrate Earth Day Hike - NYC
DESCRIPTION:Celebrate upcoming Earth Day on this nature exploration hike. Learn the history and significance of Earth Day and take a vow to protect and conserve our parks and environment. Rangers will highlight native plant species that have been planted around the Ridgewood Reservoir as a part of a habitat restoration project and talk about how the native plants are essential to healthy ecosystems. \nLocation\n\nVermont Place Parking Lot in Highland Park\n\nVermont Place and Highland Boulevard\nQueens\n\nDirections to this location \n\n\nCost\nFree \nRegistration\nRegistration not required.
URL:https://lispartnership.org/event/celebrate-earth-day-hike/
LOCATION:Vermont Place Parking Lot in Highland Park\, Bulwer Place Highland Park Greenway and Jamaica Ave to Jackie Robinson Parkway\, Queens\, NYC\, New York
CATEGORIES:Earth Day Events
ATTACH;FMTTYPE=image/jpeg:https://lispartnership.org/wp-content/uploads/2025/04/AdobeStock_334685430-scaled.jpeg
END:VEVENT
BEGIN:VEVENT
DTSTART;TZID=America/New_York:20250419T090000
DTEND;TZID=America/New_York:20250419T090000
DTSTAMP:20260420T120500
CREATED:20250403T145933Z
LAST-MODIFIED:20250403T150210Z
UID:35113-1745053200-1745053200@lispartnership.org
SUMMARY:Earth Day Beach Cleanup - RI
DESCRIPTION:Join Mystic Aquarium\, The Watch Hill Conservancy\, and The Watch Hill Fire District for a Party for the Planet beach cleanup at Napatree Point\, Westerly\, RI! Dress in your favorite blue and green outfit and help us celebrate Earth Month in style! Our mission? To remove 500 pounds of marine debris\, including harmful ocean plastics\, from our beautiful shoreline—and we need YOU to make it happen! Let’s make waves for a cleaner\, greener planet!
URL:https://lispartnership.org/event/earth-day-beach-cleanup/
LOCATION:Napatree Point\, Fort Road\, Westerly\, RI\, 02891
CATEGORIES:Earth Day Events
ATTACH;FMTTYPE=image/avif:https://lispartnership.org/wp-content/uploads/2025/04/ConservationHeaders3.avif
END:VEVENT
BEGIN:VEVENT
DTSTART;TZID=America/New_York:20250412T100000
DTEND;TZID=America/New_York:20250412T150000
DTSTAMP:20260420T120500
CREATED:20250403T124313Z
LAST-MODIFIED:20250403T124804Z
UID:35093-1744452000-1744470000@lispartnership.org
SUMMARY:Ansonia Nature Center Earth Day Celebration - CT
DESCRIPTION:Every day is Earth Day at the Nature Center! We invite you to honor Mother Earth\, with our Friends of the Ansonia Nature Center (FANCI) co-hosting this annual event. Enjoy hikes\, live animals\, environmental exhibitors\, a farmer’s market\, music and more! Food and snacks available from local vendors. No park admission fee. All ages welcome; bring family and friends to celebrate Spring! \n  \nSchedule of Events\n10:00 – Event begins \n10:30 – Opening Ceremony \n11:00 – Bird walk \n12:00 – Live Animal Show with James Tully \n1:00 – Amphibian Walk \n2:00 – Community Garden Hike \n2:30 – Raffle Drawing \n3:00 – Event ends
URL:https://lispartnership.org/event/ansonia-nature-center-earth-day-celebration-ct/
LOCATION:Ansonia Nature Center\, 10 Deerfield Lane\, Ansonia\, Connecticut
CATEGORIES:Earth Day Events
ATTACH;FMTTYPE=image/jpeg:https://lispartnership.org/wp-content/uploads/2025/04/Ansonia-Nature-Center.jpg
ORGANIZER;CN="Ansonia Nature Center":MAILTO:ansnaturectr@ansoniact.org
END:VEVENT
BEGIN:VEVENT
DTSTART;TZID=America/New_York:20250406T130000
DTEND;TZID=America/New_York:20250406T160000
DTSTAMP:20260420T120500
CREATED:20250403T130525Z
LAST-MODIFIED:20250403T130525Z
UID:35100-1743944400-1743955200@lispartnership.org
SUMMARY:Celebrating Sustainability on the Sound - CT
DESCRIPTION:Join the University of New Haven at Canal Dock Boathouse to learn more about sustainable living and protecting the Long Island Sound!
URL:https://lispartnership.org/event/celebrating-sustainability-on-the-sound-ct/
LOCATION:Canal Dock Boathouse\, Inc.\, 475 Long Wharf Drive\, New Haven\, Connecticut\, 06511
CATEGORIES:Earth Day Events
ATTACH;FMTTYPE=image/jpeg:https://lispartnership.org/wp-content/uploads/2023/10/new-haven-light-house-canva-use.jpg
END:VEVENT
END:VCALENDAR